BEGIN:VCALENDAR
VERSION:2.0
PRODID:-//hacksw/handcal//NONSGML v1.0//EN
BEGIN:VEVENT
SUMMARY:Finales Regionales par Classement
UID:3a8eb40e-2e36-4391-a53b-260474870aa0
DTSTART:20260425T220000Z
DTEND:20260426T220000Z
LOCATION:Localisation   
CATEGORIES:Sportif
STATUS:
DESCRIPTION:<p><span style="font-size:24px;"><a
 href="https://liguecentrett.com/events/finales-regionales-par-classement-2026/"
 target="_blank" rel="noreferrer noopener">Finales Regionales par
 Classement 2026 - Ligue Centre-Val de Loire TT</a></span></p>
URL;VALUE=URI:https://cdtt18.sportsregions.fr/evenements/2026/04/26/finales-regionales-par-classement-2426507
END:VEVENT
END:VCALENDAR
