BEGIN:VCALENDAR
VERSION:2.0
PRODID:-//hacksw/handcal//NONSGML v1.0//EN
BEGIN:VEVENT
SUMMARY:Championnat de France Minimes Juniors 2026
UID:bdbe465a-941e-412d-947f-61d097a0cb61
DTSTART:20260501T060000Z
DTEND:20260503T170000Z
LOCATION:Localisation   
CATEGORIES:Sportif
STATUS:
DESCRIPTION:<p><span style="font-size:24px;"><a
 href="https://www.fftt.com/championnats-de-france-jeunes/"
 target="_blank" rel="noreferrer noopener">Championnats de France
 Jeunes - Federation Francaise de Tennis de Table</a></span></p>
URL;VALUE=URI:https://cdtt18.sportsregions.fr/evenements/2026/05/01/championnat-de-france-minimes-juniors-2026-2427316
END:VEVENT
END:VCALENDAR
