BEGIN:VCALENDAR
VERSION:2.0
PRODID:-//hacksw/handcal//NONSGML v1.0//EN
BEGIN:VEVENT
SUMMARY:Coupe Nationale Veterans
UID:2a90f447-74e0-49f7-89e6-a933f4807c99
DTSTART:20260502T060000Z
DTEND:20260503T170000Z
LOCATION:Localisation   
CATEGORIES:Sportif
STATUS:
DESCRIPTION:<p><span style="font-size:24px;"><a
 href="https://www.fftt.com/autres-competitions/" target="_blank"
 rel="noreferrer noopener">Autres competitions - Federation Francaise
 de Tennis de Table</a></span></p>
URL;VALUE=URI:https://cdtt18.sportsregions.fr/evenements/2026/05/02/coupe-nationale-veterans-2427317
END:VEVENT
END:VCALENDAR
