BEGIN:VCALENDAR
VERSION:2.0
PRODID:-//hacksw/handcal//NONSGML v1.0//EN
BEGIN:VEVENT
SUMMARY:Championnat de France Corpo
UID:bf623785-7457-4638-9d5b-1babdb802b5c
DTSTART:20260516T060000Z
DTEND:20260517T170000Z
LOCATION:Localisation   
CATEGORIES:Sportif
STATUS:
DESCRIPTION:<p><span style="font-size:24px;"><a
 href="https://liguecentrett.com/events/open-france-corpos-cvl-2026/"
 target="_blank" rel="noreferrer noopener">Open France Corpos
 Centre-Val de Loire 2026 - Ligue Centre-Val de Loire
 TT</a></span></p>
URL;VALUE=URI:https://cdtt18.sportsregions.fr/evenements/2026/05/16/championnat-de-france-corpo-2433118
END:VEVENT
END:VCALENDAR
