BEGIN:VCALENDAR
VERSION:2.0
PRODID:-//hacksw/handcal//NONSGML v1.0//EN
BEGIN:VEVENT
SUMMARY:Coupe Mixte Regionale
UID:bc5aa11d-3f0a-48f0-b89e-38dd816a7467
DTSTART:20260517T060000Z
DTEND:20260517T170000Z
LOCATION:Localisation   
CATEGORIES:Sportif
STATUS:
DESCRIPTION:<p><span style="font-size:24px;"><a
 href="https://liguecentrett.com/events/coupe-mixte-regionale-2026/"
 target="_blank" rel="noreferrer noopener">Coupe Mixte Regionale 2026
 - Ligue Centre-Val de Loire TT</a></span></p>
URL;VALUE=URI:https://cdtt18.sportsregions.fr/evenements/2026/05/17/coupe-mixte-regionale-2433133
END:VEVENT
END:VCALENDAR
