BEGIN:VCALENDAR
VERSION:2.0
PRODID:-//hacksw/handcal//NONSGML v1.0//EN
BEGIN:VEVENT
SUMMARY:Corpo Equipes Regionales
UID:02e192d3-48d0-4e30-be43-b77f5d401f14
DTSTART:20260613T060000Z
DTEND:20260613T170000Z
LOCATION:Localisation   
CATEGORIES:Sportif
STATUS:
DESCRIPTION:<p><span style="font-size:24px;"><a
 href="https://liguecentrett.com/events/titres-corpos-par-equipe-2026/"
 target="_blank" rel="noreferrer noopener">Titres Corpos par Equipe
 2026 - Ligue Centre-Val de Loire TT</a></span></p>
URL;VALUE=URI:https://cdtt18.sportsregions.fr/evenements/2026/06/13/corpo-equipes-regionales-2433535
END:VEVENT
END:VCALENDAR
