BEGIN:VCALENDAR
VERSION:2.0
PRODID:-//hacksw/handcal//NONSGML v1.0//EN
BEGIN:VEVENT
SUMMARY:Interclubs Regionaux
UID:1c4f9771-9914-4449-8fd6-1fb18a5acbda
DTSTART:20260614T060000Z
DTEND:20260614T170000Z
LOCATION:Localisation   
CATEGORIES:Sportif
STATUS:
DESCRIPTION:<p><span style="font-size:24px;"><a
 href="https://liguecentrett.com/events/inter-clubs-regionaux-2026/"
 target="_blank" rel="noreferrer noopener">Interclubs Regionaux 2026 -
 Ligue Centre-Val de Loire TT</a></span></p>
URL;VALUE=URI:https://cdtt18.sportsregions.fr/evenements/2026/06/14/interclubs-regionaux-2433539
END:VEVENT
END:VCALENDAR
