BEGIN:VCALENDAR
VERSION:2.0
PRODID:-//hacksw/handcal//NONSGML v1.0//EN
BEGIN:VEVENT
SUMMARY:Titres par Equipes Nationaux
UID:a7a933c2-1a0e-462b-b669-cbd7eed72e91
DTSTART:20260619T060000Z
DTEND:20260621T170000Z
LOCATION:Localisation   
CATEGORIES:Sportif
STATUS:
URL;VALUE=URI:https://cdtt18.sportsregions.fr/evenements/2026/06/19/titres-par-equipes-nationaux-2433549
END:VEVENT
END:VCALENDAR
