BEGIN:VCALENDAR
VERSION:2.0
PRODID:-//hacksw/handcal//NONSGML v1.0//EN
BEGIN:VEVENT
SUMMARY:Titres par Equipes Departementaux
UID:4cf404e5-b693-44cb-a9b4-8f73145bdf55
DTSTART:20260620T120000Z
DTEND:20260620T170000Z
LOCATION:Localisation   
CATEGORIES:Sportif
STATUS:
URL;VALUE=URI:https://cdtt18.sportsregions.fr/evenements/2026/06/20/titres-par-equipes-departementaux-2433557
END:VEVENT
END:VCALENDAR
