BEGIN:VCALENDAR
VERSION:2.0
PRODID:-//hacksw/handcal//NONSGML v1.0//EN
BEGIN:VEVENT
SUMMARY:Titres par Equipes Regionaux
UID:acb1b688-544a-4b02-8b10-0571b147fd69
DTSTART:20260620T060000Z
DTEND:20260621T170000Z
LOCATION:Localisation   
CATEGORIES:Sportif
STATUS:
DESCRIPTION:<p><span style="font-size:24px;"><a
 href="https://liguecentrett.com/events/titres-par-equipes-regionaux-2026/"
 target="_blank" rel="noreferrer noopener">Championnats CVL par
 Equipes 2026 - Ligue Centre-Val de Loire TT</a></span></p>
URL;VALUE=URI:https://cdtt18.sportsregions.fr/evenements/2026/06/20/titres-par-equipes-regionaux-2433556
END:VEVENT
END:VCALENDAR
