BEGIN:VCALENDAR
VERSION:2.0
PRODID:-//hacksw/handcal//NONSGML v1.0//EN
BEGIN:VEVENT
SUMMARY:Finales Federales par Classements Nationales
UID:dd87383f-0a2c-4053-99a1-68854040099a
DTSTART:20260627T060000Z
DTEND:20260628T170000Z
LOCATION:Localisation   
CATEGORIES:Sportif
STATUS:
DESCRIPTION:<p><span style="font-size:24px;"><a
 href="https://www.fftt.com/autres-competitions/" target="_blank"
 rel="noreferrer noopener">Autres competitions - Federation Francaise
 de Tennis de Table</a></span></p>
URL;VALUE=URI:https://cdtt18.sportsregions.fr/evenements/2026/06/27/finales-federales-par-classements-nationales-2433558
END:VEVENT
END:VCALENDAR
