BEGIN:VCALENDAR
VERSION:2.0
PRODID:-//hacksw/handcal//NONSGML v1.0//EN
BEGIN:VEVENT
SUMMARY:Tournoi Loisirs Departemental
UID:01406281-a180-4f67-9652-f21bb3eb8966
DTSTART:20260628T120000Z
DTEND:20260628T170000Z
LOCATION:Localisation   
CATEGORIES:Sportif
STATUS:
URL;VALUE=URI:https://cdtt18.sportsregions.fr/evenements/2026/06/28/tournoi-loisirs-departemental-2433564
END:VEVENT
END:VCALENDAR
