BEGIN:VCALENDAR
VERSION:2.0
PRODID:-//hacksw/handcal//NONSGML v1.0//EN
BEGIN:VEVENT
SUMMARY:Formation Pilote
UID:57b0691e-b303-4840-a886-cfae051cf314
DTSTART:20260713T060000Z
DTEND:20260717T170000Z
LOCATION:Localisation   
CATEGORIES:Sportif
STATUS:
URL;VALUE=URI:https://cdtt18.sportsregions.fr/evenements/2026/07/13/formation-pilote-2433825
END:VEVENT
END:VCALENDAR
