BEGIN:VCALENDAR
VERSION:2.0
PRODID:-//hacksw/handcal//NONSGML v1.0//EN
BEGIN:VEVENT
SUMMARY:Stage d'ete Departemental
UID:87cdb436-4ed9-4d12-8bc9-f01344337920
DTSTART:20260713T070000Z
DTEND:20260717T170000Z
LOCATION:Localisation   
CATEGORIES:Sportif
STATUS:
URL;VALUE=URI:https://cdtt18.sportsregions.fr/evenements/2026/07/13/stage-dete-departemental-2433826
END:VEVENT
END:VCALENDAR
