BEGIN:VCALENDAR
VERSION:2.0
PRODID:-//hacksw/handcal//NONSGML v1.0//EN
BEGIN:VEVENT
SUMMARY:Championnat par Equipes Journee 2 Phase 2
UID:53520e71-a989-4c61-a310-38c80f0a4843
DTSTART:20260307T140000Z
DTEND:20260308T140000Z
LOCATION:Localisation   
CATEGORIES:Sportif
STATUS:
URL;VALUE=URI:https://cdtt18.sportsregions.fr/evenements/2026/03/07/championnat-par-equipes-journee-2-phase-2-2424429
END:VEVENT
BEGIN:VEVENT
SUMMARY:Championnat par Equipes Journee 3 Phase 2
UID:47154f5f-a65f-43f2-9c40-7dac6d10338c
DTSTART:20260321T140000Z
DTEND:20260322T140000Z
LOCATION:Localisation   
CATEGORIES:Sportif
STATUS:
URL;VALUE=URI:https://cdtt18.sportsregions.fr/evenements/2026/03/21/championnat-par-equipes-journee-3-phase-2-2424827
END:VEVENT
BEGIN:VEVENT
SUMMARY:Championnat de France Elite 2026
UID:15a4abb2-fe50-4dca-97dc-98dadd919aa9
DTSTART:20260326T230000Z
DTEND:20260329T230000Z
LOCATION:Localisation   
CATEGORIES:Sportif
STATUS:
DESCRIPTION:<p><span style="font-size:24px;"><a
 href="https://www.fftt.com/championnats-de-france-elite/"
 target="_blank" rel="noreferrer noopener">Championnats de France
 Elite - Federation Francaise de Tennis de Table</a></span></p>
URL;VALUE=URI:https://cdtt18.sportsregions.fr/evenements/2026/03/27/championnat-de-france-elite-2026-2426508
END:VEVENT
BEGIN:VEVENT
SUMMARY:Interclubs Departementaux
UID:7fa8620b-ed64-43f5-9205-517b98b94884
DTSTART:20260328T123000Z
DTEND:20260328T180000Z
LOCATION:Localisation 135, rue de turly 18000 Bourges
CATEGORIES:Sportif
STATUS:
DESCRIPTION:<p><span style="font-size:24px;">Competitions jeunes, par
 equipes de 3, par clubs et par categories de poussins a
 juniors</span></p>
 
 <p><span style="font-size:24px;"><a
 href="https://cdtt18.sportsregions.fr/en-savoir-plus/interclubs-departementaux-176035"
 target="_blank" rel="noreferrer noopener">Interclubs Departementaux -
 Comite du Cher de tennis de table</a> :
 Reglement</span></p>
 
 <p><span style="font-size:24px;"><a
 href="https://cdtt18.sportsregions.fr/actualites-du-club/interclubs-departementaux-2026-1244641"
 target="_blank" rel="noreferrer noopener">Interclubs Departementaux
 2026 - Comite du Cher de tennis de table</a> : Resultats</span></p>
URL;VALUE=URI:https://cdtt18.sportsregions.fr/evenements/2026/03/28/interclubs-departementaux-2420925
END:VEVENT
BEGIN:VEVENT
SUMMARY:Championnat de France Veterans 2026
UID:3fbd1808-57c6-42fe-8e46-61630b5437c6
DTSTART:20260403T220000Z
DTEND:20260406T220000Z
LOCATION:Localisation   
CATEGORIES:Sportif
STATUS:
DESCRIPTION:<p><span style="font-size:24px;"><a
 href="https://www.fftt.com/championnats-de-france-veterans/"
 target="_blank" rel="noreferrer noopener">Championnats de France
 Veterans - Federation Francaise de Tennis de Table</a></span></p>
URL;VALUE=URI:https://cdtt18.sportsregions.fr/evenements/2026/04/04/championnat-de-france-veterans-2026-2426512
END:VEVENT
BEGIN:VEVENT
SUMMARY:Championnat du centre 2026
UID:ca14f8b8-e4ad-492c-bbd0-7ce4db2fb0f5
DTSTART:20260404T220000Z
DTEND:20260406T220000Z
LOCATION:Localisation   
CATEGORIES:Sportif
STATUS:
DESCRIPTION:<p><span style="font-size:24px;"><a
 href="https://liguecentrett.com/events/championnat-cvl-individuels-2026/"
 target="_blank" rel="noreferrer noopener">Championnat CVL Individuels
 2026 - Ligue Centre-Val de Loire TT</a></span></p>
URL;VALUE=URI:https://cdtt18.sportsregions.fr/evenements/2026/04/05/championnat-du-centre-2026-2426514
END:VEVENT
BEGIN:VEVENT
SUMMARY:Championnat par Equipes Journee 4 Phase 2
UID:b25b2112-2a88-4c5f-a222-2b2d0904c436
DTSTART:20260411T130000Z
DTEND:20260412T130000Z
LOCATION:Localisation   
CATEGORIES:Sportif
STATUS:
URL;VALUE=URI:https://cdtt18.sportsregions.fr/evenements/2026/04/11/championnat-par-equipes-journee-4-phase-2-2426518
END:VEVENT
BEGIN:VEVENT
SUMMARY:Stage de Pacques du Comite
UID:964bde57-721a-4a11-a1ce-f83304b4bd56
DTSTART:20260413T070000Z
DTEND:20260416T150000Z
LOCATION:Localisation   
CATEGORIES:Sportif
STATUS:
URL;VALUE=URI:https://cdtt18.sportsregions.fr/evenements/2026/04/13/stage-de-pacques-du-comite-2426520
END:VEVENT
END:VCALENDAR
